BEGIN:VCALENDAR
VERSION:2.0
PRODID:icalendar-ruby
CALSCALE:GREGORIAN
METHOD:PUBLISH
BEGIN:VEVENT
DTSTAMP:20260421T110315Z
UID:249-1945680@mywestside.ca
DTSTART:20260607T163000Z
DTEND:20260607T173000Z
CLASS:PUBLIC
CREATED:20260421T045821
DESCRIPTION:Sunday Youth\nA place to dive deeper into the Word of God on Su
 ndays after participating in the congregational singing.  The youth goes 
 into the youth room and have discussion style study on the sermon topic.
LAST-MODIFIED:20260421T045821
LOCATION:480 McMaster Blvd. W
SUMMARY:Sunday Youth
URL;VALUE=URI:https://www.mywestside.ca/events/sunday-youth/2026-06-07
END:VEVENT
END:VCALENDAR
