BEGIN:VCALENDAR
VERSION:2.0
PRODID:icalendar-ruby
CALSCALE:GREGORIAN
METHOD:PUBLISH
BEGIN:VEVENT
DTSTAMP:20260424T093307Z
UID:249-1970374@mywestside.ca
DTSTART:20261025T163000Z
DTEND:20261025T173000Z
CLASS:PUBLIC
CREATED:20260423T193756
DESCRIPTION:Sunday Youth\nA place to dive deeper into the Word of God on Su
 ndays after participating in the congregational singing.  The youth goes 
 into the youth room and have discussion style study on the sermon topic.
LAST-MODIFIED:20260423T193756
LOCATION:480 McMaster Blvd. W
SUMMARY:Sunday Youth
URL;VALUE=URI:https://www.mywestside.ca/events/sunday-youth/2026-10-25
END:VEVENT
END:VCALENDAR
